2.438400000000
0.000000000000
0.000000000000
-2.438400000000
340726.244638298173
3958216.531169402879
