2.438400000000
0.000000000000
0.000000000000
-2.438400000000
283115.771352101820
3917802.111479430500
