2.438400000000
0.000000000000
0.000000000000
-2.438400000000
250521.616287506040
3974164.105229845300
