2.438400000000
0.000000000000
0.000000000000
-2.438400000000
307360.466688022190
3986618.385538768500
