2.438400000000
0.000000000000
0.000000000000
-2.438400000000
274200.323355790053
4015162.223970346150
