2.438400000000
0.000000000000
0.000000000000
-2.438400000000
309181.226075251121
4069826.841061038430
