2.438400000000
0.000000000000
0.000000000000
-2.438400000000
592510.470967860543
3666291.299435220659
