2.438400000000
0.000000000000
0.000000000000
-2.438400000000
592376.679522802355
3680150.047369525302
