2.438400000000
0.000000000000
0.000000000000
-2.438400000000
626759.752202736330
3722172.383562177885
