2.43840000
0.00000000
0.00000000
-2.43840000
742028.44254069
3752292.00433471
