2.43840000
0.00000000
0.00000000
-2.43840000
730118.23716452
3765853.46568025
