2.438400000000
0.000000000000
0.000000000000
-2.438400000000
626029.972484985020
3777613.368796611700
