2.438400000000
0.000000000000
0.000000000000
-2.438400000000
625843.603240015680
3791474.380897232300
