2.438400000000
0.000000000000
0.000000000000
-2.438400000000
625467.984065059570
3819197.792741033700
