2.438400000000
0.000000000000
0.000000000000
-2.438400000000
590904.941401910850
3832608.960657118800
