2.438400000000
0.000000000000
0.000000000000
-2.438400000000
590766.904118870270
3846470.721592511100
