2.43840000
0.00000000
0.00000000
-2.43840000
688000.69827110
4111687.72332301
