2.43840000
0.00000000
0.00000000
-2.43840000
687690.85483512
4125557.44140566
