2.43840000
0.00000000
0.00000000
-2.43840000
741916.58881700
4168680.56510228
