2.43840000
0.00000000
0.00000000
-2.43840000
741510.50578869
4182550.79610429
