2.43840000
0.00000000
0.00000000
-2.43840000
598839.19436396
4137776.86915950
