2.43840000
0.00000000
0.00000000
-2.43840000
653919.51741812
4152567.72690613
