2.43840000
0.00000000
0.00000000
-2.43840000
275447.34273213
3585075.36501301
