2.43840000
0.00000000
0.00000000
-2.43840000
240457.85066193
3599784.36707754
