2.43840000
0.00000000
0.00000000
-2.43840000
241535.78355601
3641373.77965034
