2.43840000
0.00000000
0.00000000
-2.43840000
300397.97025283
3653879.63233208
