2.438400000000
0.000000000000
0.000000000000
-2.438400000000
499236.821660439080
3998385.097036181900
