2.438400000000
0.000000000000
0.000000000000
-2.438400000000
499241.116816711550
4012248.020083421400
