2.438400000000
0.000000000000
0.000000000000
-2.438400000000
532677.288451658910
4053955.588597382400
