2.438400000000
0.000000000000
0.000000000000
-2.438400000000
532711.470665748460
4067822.200245942000
