2.438400
0.000000
0.000000
-2.438400
667835.021547
4000285.051089
