2.438400
0.000000
0.000000
-2.438400
667417.566138
4014154.991839
