2.438400
0.000000
0.000000
-2.438400
633542.228663
4027372.061619
