2.438400
0.000000
0.000000
-2.438400
666938.085356
4041911.463549
