2.438400
0.000000
0.000000
-2.438400
633117.627536
4055114.566112
