2.438400
0.000000
0.000000
-2.438400
632890.450599
4068924.757539
