2.438400
0.000000
0.000000
-2.438400
666082.394205
4083487.705867
