2.438400
0.000000
0.000000
-2.438400
610196.208237
4096404.846401
