2.43840000
0.00000000
0.00000000
-2.43840000
735074.37548988
3557903.71750978
