2.43840000
0.00000000
0.00000000
-2.43840000
734752.98125353
3571765.37673558
