2.43840000
0.00000000
0.00000000
-2.43840000
769721.00799565
3586557.39153907
