2.43840000
0.00000000
0.00000000
-2.43840000
768974.81167085
3614285.60866547
