2.43840000
0.00000000
0.00000000
-2.43840000
768599.76072299
3628151.13113469
