2.43840000
0.00000000
0.00000000
-2.43840000
733129.26748858
3641076.97782260
