2.438400
0.000000
0.000000
-2.438400
553950.681414
4192825.081011
