2.438400
0.000000
0.000000
-2.438400
542877.402523
4206735.607872
