2.438400
0.000000
0.000000
-2.438400
432337.686159
4109597.497702
