2.438400
0.000000
0.000000
-2.438400
432537.616138
4123446.657310
