2.438400
0.000000
0.000000
-2.438400
432791.531123
4151132.273992
