2.438400
0.000000
0.000000
-2.438400
465986.139138
4164836.741601
